BEGIN:VCALENDAR
VERSION:2.0
PRODID:-//Arrow Safety - ECPv6.15.20//NONSGML v1.0//EN
CALSCALE:GREGORIAN
METHOD:PUBLISH
X-WR-CALNAME:Arrow Safety
X-ORIGINAL-URL:https://arrowsafetyus.com
X-WR-CALDESC:Events for Arrow Safety
REFRESH-INTERVAL;VALUE=DURATION:PT1H
X-Robots-Tag:noindex
X-PUBLISHED-TTL:PT1H
BEGIN:VTIMEZONE
TZID:America/Chicago
BEGIN:DAYLIGHT
TZOFFSETFROM:-0600
TZOFFSETTO:-0500
TZNAME:CDT
DTSTART:20240310T080000
END:DAYLIGHT
BEGIN:STANDARD
TZOFFSETFROM:-0500
TZOFFSETTO:-0600
TZNAME:CST
DTSTART:20241103T070000
END:STANDARD
BEGIN:DAYLIGHT
TZOFFSETFROM:-0600
TZOFFSETTO:-0500
TZNAME:CDT
DTSTART:20250309T080000
END:DAYLIGHT
BEGIN:STANDARD
TZOFFSETFROM:-0500
TZOFFSETTO:-0600
TZNAME:CST
DTSTART:20251102T070000
END:STANDARD
BEGIN:DAYLIGHT
TZOFFSETFROM:-0600
TZOFFSETTO:-0500
TZNAME:CDT
DTSTART:20260308T080000
END:DAYLIGHT
BEGIN:STANDARD
TZOFFSETFROM:-0500
TZOFFSETTO:-0600
TZNAME:CST
DTSTART:20261101T070000
END:STANDARD
END:VTIMEZONE
BEGIN:VEVENT
DTSTART;TZID=America/Chicago:20250630T100000
DTEND;TZID=America/Chicago:20250630T110000
DTSTAMP:20260424T042813
CREATED:20250605T170339Z
LAST-MODIFIED:20250605T170339Z
UID:1505-1751277600-1751281200@arrowsafetyus.com
SUMMARY:WEBINAR: Is Your Workforce Prepared for a Medical Emergency?
DESCRIPTION:We all know how the old saying goes – “Let’s go home the same way we came in – with all of our fingers and toes!”. While we certainly never want anyone to get hurt\, we have to plan for the unthinkable – what if there’s a major incident and one of your co-workers gets severely injured? Are your employees properly prepared to respond to a worker who is in cardiac arrest? Can they stop severe bleeding to prevent a person from dying before Fire/EMS arrive on scene? Would they know how to treat a worker who fell from 10+ feet off the ground with a potential spinal injury? \nDuring this free 1-hour webinar\, we will help you understand some of the essentials when it comes to planning for a medical emergency in the workplace. Topics covered will include\, but not be limited to:\n• Various Types of Workplace Injuries/Illnesses\n• OSHA and ANSI Requirements\n• State-Specific Requirements\n• CPR Training vs. First Aid Training\n• First Aid Kit Contents\n• AED Considerations\n• General Treatment Guidelines\n• Industry Best Practices\n• AND MUCH MORE! \nRegister at the link below: \nhttps://us06web.zoom.us/webinar/register/1217490726357/WN_ZStShkfTR6esh5BmtA6gYw
URL:https://arrowsafetyus.com/event/webinar-is-your-workforce-prepared-for-a-medical-emergency/
LOCATION:Online (Virtual)
CATEGORIES:Webinar
ORGANIZER;CN="Arrow Safety%2C LLC":MAILTO:info@arrowsafetyus.com
END:VEVENT
BEGIN:VEVENT
DTSTART;TZID=America/Chicago:20250530T080000
DTEND;TZID=America/Chicago:20250530T123000
DTSTAMP:20260424T042813
CREATED:20250430T211539Z
LAST-MODIFIED:20250430T211721Z
UID:1458-1748592000-1748608200@arrowsafetyus.com
SUMMARY:CPR\, AED\, & First Aid Training
DESCRIPTION:CPR\, AED\, & First Aid Training\nMay 30th\, 2025 \n8:00AM – 12:30PM CST \nArrow Safety \n900 W. Main St. \nGlasgow\, KY 42141 \nLearn to Save a Life!\nThis course is for anyone in the community ages 13 and up. \nA 2-year CPR/AED/First-Aid certification will be provided upon successful completion of the course. \nSpace is limited. Contact Us to register! \n  \nArrow Safety \nDrew Hinton\, PhD\, CSP\, CHMM\, EMT \nPresident/CEO \n(270) 670-4718 \ninfo@arrowsafetyus.com \n \n 
URL:https://arrowsafetyus.com/event/cpr-aed-first-aid-training/
LOCATION:KY
CATEGORIES:Training
END:VEVENT
BEGIN:VEVENT
DTSTART;TZID=America/Chicago:20250519T080000
DTEND;TZID=America/Chicago:20250523T170000
DTSTAMP:20260424T042813
CREATED:20250428T161058Z
LAST-MODIFIED:20250430T210720Z
UID:1449-1747641600-1748019600@arrowsafetyus.com
SUMMARY:40-Hour Fall Protection Program Administrator Course
DESCRIPTION:Fall Protection\nProgram Administrator Course\nDates: May 19-23\, 2025 \nTime: 8:00AM to 5:00PM CST \nLocation: 900 W Main St.\, Glasgow\, KY 42141 \nCost: $1\,750 (Discount for 5+) \nMinimum Class Size: 5 Students \nMaximum Class Size: 20 Students \n__________________________________________________ \nWhat You Get:\nThis course is designed to take you from start to finish on fall protection. By the end of this course\, you will receive a Competent Person\, Train-the-Trainer\, and Program Administrator certification from Arrow Safety so that you are prepared to oversee your organization’s fall protection program. \nWhy Choose Us:\nOur training course exceeds OSHA requirements by incorporating applicable ANSI Z359 standards\, manufacturer guidelines\, industry best practices\, and site-specific hazard and equipment info. The training is conducted by experienced and highly-qualified instructors with decades of real-world experience. \nContact Us To Register:\nArrow Safety\, LLC \n900 West Main Street \nGlasgow\, KY 42141 \n(270) 670-4718 \ninfo@arrowsafetyus.com
URL:https://arrowsafetyus.com/event/fall-protection-training-program/
LOCATION:Arrow Safety – Glasgow\, 110 Reynolds Road\, Glasgow\, KY\, 42141\, United States
ORGANIZER;CN="Drew Hinton":MAILTO:drew@arrowsafetyus.com
END:VEVENT
END:VCALENDAR