BEGIN:VCALENDAR
VERSION:2.0
PRODID:-//Arrow Safety - ECPv6.15.20//NONSGML v1.0//EN
CALSCALE:GREGORIAN
METHOD:PUBLISH
X-ORIGINAL-URL:https://arrowsafetyus.com
X-WR-CALDESC:Events for Arrow Safety
REFRESH-INTERVAL;VALUE=DURATION:PT1H
X-Robots-Tag:noindex
X-PUBLISHED-TTL:PT1H
BEGIN:VTIMEZONE
TZID:America/Chicago
BEGIN:DAYLIGHT
TZOFFSETFROM:-0600
TZOFFSETTO:-0500
TZNAME:CDT
DTSTART:20250309T080000
END:DAYLIGHT
BEGIN:STANDARD
TZOFFSETFROM:-0500
TZOFFSETTO:-0600
TZNAME:CST
DTSTART:20251102T070000
END:STANDARD
BEGIN:DAYLIGHT
TZOFFSETFROM:-0600
TZOFFSETTO:-0500
TZNAME:CDT
DTSTART:20260308T080000
END:DAYLIGHT
BEGIN:STANDARD
TZOFFSETFROM:-0500
TZOFFSETTO:-0600
TZNAME:CST
DTSTART:20261101T070000
END:STANDARD
BEGIN:DAYLIGHT
TZOFFSETFROM:-0600
TZOFFSETTO:-0500
TZNAME:CDT
DTSTART:20270314T080000
END:DAYLIGHT
BEGIN:STANDARD
TZOFFSETFROM:-0500
TZOFFSETTO:-0600
TZNAME:CST
DTSTART:20271107T070000
END:STANDARD
END:VTIMEZONE
BEGIN:VEVENT
DTSTART;TZID=America/Chicago:20260305T080000
DTEND;TZID=America/Chicago:20260305T123000
DTSTAMP:20260423T150203
CREATED:20260128T154819Z
LAST-MODIFIED:20260128T154821Z
UID:1568-1772697600-1772713800@arrowsafetyus.com
SUMMARY:CPR-AED-First Aid Training
DESCRIPTION:LEARN TO SAVE A LIFE! \n\nThis course is for anyone in the community ages 13 and up.\nA 2-year digital certification\, issued through the Health and Safety Institute (HSI®)\, will be provided upon successful completion of the course.\nAll medical courses are taught by EMTs and/or Paramedics with decades of real-world experience.\n\nDelivery Method(s): Classroom Lecture\, Practical Training\, and Performance Evaluations \nMinimum Class Size: 3 \nMaximum Class Size: 20 \n  \nNotice \nThis HSI® training program has been approved by the HSI® Medical Advisory Board and reviewed by the HSI® Advisory Council. It reflects the latest first aid and resuscitation science and treatment recommendations of the 2020 International Consensus on Cardiopulmonary Resuscitation (CPR) and Emergency Cardiovascular Care (ECC) Science with Treatment Recommendations (CoSTR) and the 2020 International Consensus on First Aid Science with Treatment Recommendations published by the International Liaison Committee on Resuscitation (ILCOR). It conforms with the 2020 American Heart Association®\, Inc. (AHA) Guidelines Update for Cardiopulmonary Resuscitation (CPR) and Emergency Cardiovascular Care (ECC)\, and the 2020 AHA and American Red Cross (ARC) Focused Update for First Aid the annual Guidelines Update. \nThis HSI® Training Program incorporates AHA recommendations regarding resuscitation education science and reflects established models\, theories\, and principles of instructional design and training development that have been integrated into HSI® training program brands for more than 40 years. \nHSI is a nationally accredited organization of the Commission on Accreditation of Pre-Hospital Continuing Education (CAPCE) and nationally approved by the Academy of General Dentistry (AGD) Program Approval for Continuing Education (PACE) as a continuing dental education (CDE) provider. \n  \nLearning Objectives \nThe goal of this training program is for trainees to gain or improve knowledge and skill proficiency in first aid\, cardiopulmonary resuscitation (CPR)\, and the use of an automated external defibrillator (AED). This course reflects the latest resuscitation science and treatment recommendations published by the International Liaison Committee on Resuscitation (ILCOR)\, and it conforms with the 2020 American Heart Association (AHA) Guidelines Update for CPR and ECC and the annual Guidelines Update. \nFollowing this course\, trainees should be able to: \n\nSummarize the basic legal concepts (e.g.\, Good Samaritan law) that apply to providing first aid\, performing CPR\, and/or using an AED;\nRecognize the benefits of a healthy lifestyle and a safety-oriented home and workplace culture;\nRecognize the rescuer’s role\, responsibilities\, and priorities;\nUnderstand their applicable level of training and the importance of not exceeding it during a medical emergency;\nRecognize the main elements to the procedure for CPR and the use of an AED;\nRecognize the elements of high-quality CPR and their importance on survival from cardiac arrest;\nIdentify the links in the sudden cardiac arrest (SCA) “Chain of Survival”;\nPerform a rapid patient assessment;\nRecognize when high-quality CPR is required;\nDescribe and correctly demonstrate how to perform high-quality CPR\, including providing effective rescue breaths;\nDescribe and correctly demonstrate how to use an automated external defibrillator (AED);\nDescribe and correctly demonstrate how to provide treatment for a choking patient;\nProperly select the appropriate personal protective equipment (PPE);\nCorrectly demonstrate the removal of contaminated personal protective equipment (PPE);\nDescribe and correctly demonstrate various adult first aid procedures;\nDescribe how to recognize and provide first aid treatment for injury\, medical\, and environmental emergencies;\nCorrectly demonstrate how to control severe external bleeding;\nCorrectly demonstrate how to use an epinephrine autoinjector (e.g.\, EpiPen®);\nRecognize opioid-related emergencies and how to administer intranasal Naloxone (Narcan®);*\nUnderstand and be able to apply universal precautions; and\nWork both independently and as a team during medical emergencies\, understanding the importance of good team dynamics.\n\n*This topic is optional based on site-specific needs \n  \nCourse Outline \nGeneral \n\nScene safety and assessment\nBloodborne pathogens and other potentially infectious materials (OPIMs)\nUniversal precautions\nLay rescuer responsibilities\nGaining consent from the patient\nGood Samaritan laws and other legal issues\nPersonal protective equipment (PPE)\nDecontamination\nEmergency action plans (EAPs)\nRecovery position\nOptional: Opioid-associated life-threatening emergencies*\nDebriefings for rescuers\n\nCardiopulmonary Resuscitation (CPR) \n\nCPR-related statistics and data\nHeart attack vs. Sudden Cardiac Arrest (SCA)\nAdult CPR\nSCA “Chain of Survival”\nAutomated external defibrillators (AEDs)\nSpecial CPR considerations\n\nFirst Aid \n\nPrinciples of responding to a medical emergency\nPatient assessments and triage\nNosebleeds\nTooth injuries\nChoking\nSevere bleeding control\nShock\nAmputations\nImpaled objects\nOpen chest injuries\nOpen abdominal injuries\nSpinal injuries\nHead injuries (including concussions)\nStrains and sprains\nDislocations\nFractures\nBurns\nStrokes\nDiabetic emergencies\nSeizures\nAsthma\nAllergic reactions\nPoisoning\nBites and stings\nHeat-related illnesses\nCold-related illnesses\n\nTo register\, call/text (270) 670-4718 or email us at cpr@arrowsafetyus.com.
URL:https://arrowsafetyus.com/event/cpr-aed-first-aid-training-6/
LOCATION:Arrow Safety – Glasgow\, 110 Reynolds Road\, Glasgow\, KY\, 42141\, United States
CATEGORIES:Training
ORGANIZER;CN="Arrow Safety%2C LLC":MAILTO:info@arrowsafetyus.com
END:VEVENT
BEGIN:VEVENT
DTSTART;TZID=America/Chicago:20260423T080000
DTEND;TZID=America/Chicago:20260423T120000
DTSTAMP:20260423T150203
CREATED:20260311T171957Z
LAST-MODIFIED:20260311T171957Z
UID:1577-1776931200-1776945600@arrowsafetyus.com
SUMMARY:Basic Life Support (BLS) Training
DESCRIPTION:Delivery Method(s): Classroom Lecture\, Practical Training\, and Performance Evaluations \nMinimum Class Size: 5 \nMaximum Class Size: 20 \n*NOTE: Discounts are available for groups of 5 or more from the same employer. \n  \nCourse Outline \nThis course is designed for healthcare professionals and other personnel who need to know how to perform CPR and other basic cardiovascular life support skills in a wide variety of in-facility and prehospital settings. The course has been updated to reflect new science in the 2025 AHA Guidelines for CPR and ECC\, and teaches basic life support skills for application in both in-facility and prehospital settings\, with a focus on high-quality CPR\, improvement of chest compression fraction\, and high-performing team dynamics. This course teaches rescue techniques for adults\, children\, and infants. \nAgenda \n\n1-Rescuer Adult BLS\n\nAdult Chain of Survival\nScene Safety\, Assessment\, and Adult Compressions\nPocket Mask\n1-Rescuer Adult BLS\n\n\nAutomated External Defibrillators (AEDs)\nBag-Mask Devices\n2-Rescuer Adult BLS\nSpecial Considerations\n\nMouth-to-Mouth Breaths\nRescue Breathing\nBreaths With an Advanced Airway\nOpioid-Associated Life-Threatening Emergency\nMaternal Cardiac Arrest\n\n\nChild BLS\n\nPediatric Chain of Survival\nChild BLS\n2-Rescuer Child CPR\n\n\nHigh-Performance Teams\n\nTeam Dynamics\nHigh-Performance Teams\n\n\nInfant BLS\n\nInfant BLS\nInfant Compressions\nBag-Mask Device for Infants\n2-Rescuer Infant CPR\nAED for Infants and Children Less Than 8 Years of Age\n\n\nRelief of Choking\n\nAdult and Child Choking\nInfant Choking\n\n\nConclusion\nSkills Test\n\nAdult CPR and AED Skills Test\nInfant CPR Skills Test\n\n\nWritten Exam\n\nTo register\, call/text (270) 670-4718 or email us at cpr@arrowsafetyus.com.
URL:https://arrowsafetyus.com/event/basic-life-support-bls-training-2/
LOCATION:Arrow Safety – Glasgow\, 110 Reynolds Road\, Glasgow\, KY\, 42141\, United States
CATEGORIES:Training
ORGANIZER;CN="Arrow Safety%2C LLC":MAILTO:info@arrowsafetyus.com
END:VEVENT
BEGIN:VEVENT
DTSTART;TZID=America/Chicago:20260512T080000
DTEND;TZID=America/Chicago:20260512T140000
DTSTAMP:20260423T150203
CREATED:20260316T182637Z
LAST-MODIFIED:20260316T182753Z
UID:1580-1778572800-1778594400@arrowsafetyus.com
SUMMARY:Mobile Elevating Work Platform (MEWP) Operator Training (Open Enrollment)
DESCRIPTION:Join us for an open-enrollment Mobile Elevating Work Platform (MEWP) Operator training course at our Glasgow office! \n\nTraining Objective: The primary objective of this training course is to ensure trainees are aware of MEWP safe operation requirements\, applicable standards and regulations\, and recognition and avoidance of various hazards associated with MEWPs. Trainees will be able to demonstrate their ability to maneuver a MEWP safely and efficiently.\nDelivery Method(s): Classroom Lecture\, Practical Training\, and Performance Evaluations\nMinimum Class Size: 5\nMaximum Class Size: 10\nDelivery Method: Classroom Lecture\, Practical Demonstration\, and Performance Evaluation\nPrerequisites: Since trainees will be required to wear a personal fall protection equipment (e.g.\, full body harness\, lanyard/SRD)\, each trainee must have successfully completed a “Fall Protection – Authorized Person” training course (or equivalent) prior to attending this course.\nCertification: 3 Years\n\nCourse Outline \n\nIntroduction\, outline\, and provision for practice operation\nIntroduction to applicable OSHA and ANSI A92 standards\nTraining requirements\nTraining vs. familiarization\nRoles and responsibilities\nKnowing your aerial lift and the importance of reading the operator’s manual\nThe “big four” safety issues including tip-over\, fall\, collision and electrocution\nBasic components and typical control layouts\nSite-specific workplace assessment\nMEWP selection\nLoad capacities\nMEWP-specific fall protection requirements\nOperation of emergency ground controls\nGround conditions\nWeather-related dangers\nPedestrian safety\nOperating in tight areas\nBasic operational issues\nTraveling rules\nHow to avoid damage to the equipment and facilities\nProper parking\nOperation on ramps\nFueling procedures\nPersonal protective equipment (PPE)\nInspection requirements\nPlanning for a rescue\nANSI standard changes\n\nSkills/Performance Evaluations  \n\nTrainees will conduct and document a pre-start inspection on various MEWPs.\nTrainees will operate a scissor lift (Type 3\, Group A MEWP) and aerial lift (Type 3\, Group B MEWP) and be evaluated on their overall safe operations and compliance with applicable OSHA and ANSI A92 standards. Evaluation criteria includes\, but is not limited to:\n\nSafe mounting and dismounting of a MEWP;\nOperating a MEWP from upper and lower control panels;\nOperating in a safe\, efficient manner;\nProper boom operation;\nClearance with overhead power lines;\nOperating MEWPs in enclosed (confined) spaces; and\nDemonstrating to the instructor that the student has basic familiarity and confidence in safe operation of the MEWP.\n\n\n\nTo register\, call/text (270) 670-4718 or email us at training@arrowsafetyus.com.
URL:https://arrowsafetyus.com/event/mobile-elevating-work-platform-mewp-operator-training-open-enrollment/
LOCATION:Arrow Safety – Glasgow\, 110 Reynolds Road\, Glasgow\, KY\, 42141\, United States
CATEGORIES:Training
ORGANIZER;CN="Arrow Safety%2C LLC":MAILTO:info@arrowsafetyus.com
END:VEVENT
BEGIN:VEVENT
DTSTART;TZID=America/Chicago:20260528T080000
DTEND;TZID=America/Chicago:20260528T123000
DTSTAMP:20260423T150203
CREATED:20260311T171537Z
LAST-MODIFIED:20260311T171537Z
UID:1574-1779955200-1779971400@arrowsafetyus.com
SUMMARY:CPR-AED-First Aid Training
DESCRIPTION:LEARN TO SAVE A LIFE! \n\nThis course is for anyone in the community ages 13 and up.\nA 2-year digital certification\, issued through the Health and Safety Institute (HSI®)\, will be provided upon successful completion of the course.\nAll medical courses are taught by EMTs and/or Paramedics with decades of real-world experience.\n\nDelivery Method(s): Classroom Lecture\, Practical Training\, and Performance Evaluations \nMinimum Class Size: 3 \nMaximum Class Size: 20 \n  \nNotice \nThis HSI® training program has been approved by the HSI® Medical Advisory Board and reviewed by the HSI® Advisory Council. It reflects the latest first aid and resuscitation science and treatment recommendations of the 2020 International Consensus on Cardiopulmonary Resuscitation (CPR) and Emergency Cardiovascular Care (ECC) Science with Treatment Recommendations (CoSTR) and the 2020 International Consensus on First Aid Science with Treatment Recommendations published by the International Liaison Committee on Resuscitation (ILCOR). It conforms with the 2020 American Heart Association®\, Inc. (AHA) Guidelines Update for Cardiopulmonary Resuscitation (CPR) and Emergency Cardiovascular Care (ECC)\, and the 2020 AHA and American Red Cross (ARC) Focused Update for First Aid the annual Guidelines Update. \nThis HSI® Training Program incorporates AHA recommendations regarding resuscitation education science and reflects established models\, theories\, and principles of instructional design and training development that have been integrated into HSI® training program brands for more than 40 years. \nHSI is a nationally accredited organization of the Commission on Accreditation of Pre-Hospital Continuing Education (CAPCE) and nationally approved by the Academy of General Dentistry (AGD) Program Approval for Continuing Education (PACE) as a continuing dental education (CDE) provider. \n  \nLearning Objectives \nThe goal of this training program is for trainees to gain or improve knowledge and skill proficiency in first aid\, cardiopulmonary resuscitation (CPR)\, and the use of an automated external defibrillator (AED). This course reflects the latest resuscitation science and treatment recommendations published by the International Liaison Committee on Resuscitation (ILCOR)\, and it conforms with the 2020 American Heart Association (AHA) Guidelines Update for CPR and ECC and the annual Guidelines Update. \nFollowing this course\, trainees should be able to: \n\nSummarize the basic legal concepts (e.g.\, Good Samaritan law) that apply to providing first aid\, performing CPR\, and/or using an AED;\nRecognize the benefits of a healthy lifestyle and a safety-oriented home and workplace culture;\nRecognize the rescuer’s role\, responsibilities\, and priorities;\nUnderstand their applicable level of training and the importance of not exceeding it during a medical emergency;\nRecognize the main elements to the procedure for CPR and the use of an AED;\nRecognize the elements of high-quality CPR and their importance on survival from cardiac arrest;\nIdentify the links in the sudden cardiac arrest (SCA) “Chain of Survival”;\nPerform a rapid patient assessment;\nRecognize when high-quality CPR is required;\nDescribe and correctly demonstrate how to perform high-quality CPR\, including providing effective rescue breaths;\nDescribe and correctly demonstrate how to use an automated external defibrillator (AED);\nDescribe and correctly demonstrate how to provide treatment for a choking patient;\nProperly select the appropriate personal protective equipment (PPE);\nCorrectly demonstrate the removal of contaminated personal protective equipment (PPE);\nDescribe and correctly demonstrate various adult first aid procedures;\nDescribe how to recognize and provide first aid treatment for injury\, medical\, and environmental emergencies;\nCorrectly demonstrate how to control severe external bleeding;\nCorrectly demonstrate how to use an epinephrine autoinjector (e.g.\, EpiPen®);\nRecognize opioid-related emergencies and how to administer intranasal Naloxone (Narcan®);*\nUnderstand and be able to apply universal precautions; and\nWork both independently and as a team during medical emergencies\, understanding the importance of good team dynamics.\n\n*This topic is optional based on site-specific needs \n  \nCourse Outline \nGeneral \n\nScene safety and assessment\nBloodborne pathogens and other potentially infectious materials (OPIMs)\nUniversal precautions\nLay rescuer responsibilities\nGaining consent from the patient\nGood Samaritan laws and other legal issues\nPersonal protective equipment (PPE)\nDecontamination\nEmergency action plans (EAPs)\nRecovery position\nOptional: Opioid-associated life-threatening emergencies*\nDebriefings for rescuers\n\nCardiopulmonary Resuscitation (CPR) \n\nCPR-related statistics and data\nHeart attack vs. Sudden Cardiac Arrest (SCA)\nAdult CPR\nSCA “Chain of Survival”\nAutomated external defibrillators (AEDs)\nSpecial CPR considerations\n\nFirst Aid \n\nPrinciples of responding to a medical emergency\nPatient assessments and triage\nNosebleeds\nTooth injuries\nChoking\nSevere bleeding control\nShock\nAmputations\nImpaled objects\nOpen chest injuries\nOpen abdominal injuries\nSpinal injuries\nHead injuries (including concussions)\nStrains and sprains\nDislocations\nFractures\nBurns\nStrokes\nDiabetic emergencies\nSeizures\nAsthma\nAllergic reactions\nPoisoning\nBites and stings\nHeat-related illnesses\nCold-related illnesses\n\nTo register\, call/text (270) 670-4718 or email us at cpr@arrowsafetyus.com.
URL:https://arrowsafetyus.com/event/cpr-aed-first-aid-training-7/
LOCATION:Arrow Safety – Glasgow\, 110 Reynolds Road\, Glasgow\, KY\, 42141\, United States
CATEGORIES:Training
ORGANIZER;CN="Arrow Safety%2C LLC":MAILTO:info@arrowsafetyus.com
END:VEVENT
END:VCALENDAR